BEGIN:VCALENDAR
VERSION:2.0
PRODID:-//Electro Source Inc. - ECPv6.15.20//NONSGML v1.0//EN
CALSCALE:GREGORIAN
METHOD:PUBLISH
X-WR-CALNAME:Electro Source Inc.
X-ORIGINAL-URL:https://electrosource.com
X-WR-CALDESC:Events for Electro Source Inc.
REFRESH-INTERVAL;VALUE=DURATION:PT1H
X-Robots-Tag:noindex
X-PUBLISHED-TTL:PT1H
BEGIN:VTIMEZONE
TZID:America/Toronto
BEGIN:DAYLIGHT
TZOFFSETFROM:-0500
TZOFFSETTO:-0400
TZNAME:EDT
DTSTART:20240310T070000
END:DAYLIGHT
BEGIN:STANDARD
TZOFFSETFROM:-0400
TZOFFSETTO:-0500
TZNAME:EST
DTSTART:20241103T060000
END:STANDARD
BEGIN:DAYLIGHT
TZOFFSETFROM:-0500
TZOFFSETTO:-0400
TZNAME:EDT
DTSTART:20250309T070000
END:DAYLIGHT
BEGIN:STANDARD
TZOFFSETFROM:-0400
TZOFFSETTO:-0500
TZNAME:EST
DTSTART:20251102T060000
END:STANDARD
BEGIN:DAYLIGHT
TZOFFSETFROM:-0500
TZOFFSETTO:-0400
TZNAME:EDT
DTSTART:20260308T070000
END:DAYLIGHT
BEGIN:STANDARD
TZOFFSETFROM:-0400
TZOFFSETTO:-0500
TZNAME:EST
DTSTART:20261101T060000
END:STANDARD
END:VTIMEZONE
BEGIN:VEVENT
DTSTART;VALUE=DATE:20250406
DTEND;VALUE=DATE:20250410
DTSTAMP:20260422T024819
CREATED:20250126T222721Z
LAST-MODIFIED:20250126T223053Z
UID:7327-1743897600-1744243199@electrosource.com
SUMMARY:Sea Air Space 2025
DESCRIPTION:Bringing the Sea Services and\nMaritime Industry Together\n\n\n\n\n\n\n\n\n\n\n\nPowered by the Navy League of the United States\, Sea-Air-Space is the premier maritime exposition in the U.S.\, bringing together defense industry leaders and top military decision-makers from around the world to share the latest advancements in the maritime domain. With industry leading speakers and events featured across three impactful days\, Sea-Air-Space is a must-attend for anyone invested in the future of U.S. maritime strength and innovation.
URL:https://electrosource.com/event/sea-air-space-2025/
LOCATION:Gaylord National Resort & Convention Center\, 201 Waterfront St\, Oxon Hill\, MD\, 20745\, United States
CATEGORIES:Conference
ATTACH;FMTTYPE=image/png:https://electrosource.com/wp-content/uploads/2025/01/SeaAirSpace.png
END:VEVENT
END:VCALENDAR