BEGIN:VCALENDAR
VERSION:2.0
PRODID:-//Electro Source Inc. - ECPv6.15.20//NONSGML v1.0//EN
CALSCALE:GREGORIAN
METHOD:PUBLISH
X-WR-CALNAME:Electro Source Inc.
X-ORIGINAL-URL:https://electrosource.com
X-WR-CALDESC:Events for Electro Source Inc.
REFRESH-INTERVAL;VALUE=DURATION:PT1H
X-Robots-Tag:noindex
X-PUBLISHED-TTL:PT1H
BEGIN:VTIMEZONE
TZID:America/Toronto
BEGIN:DAYLIGHT
TZOFFSETFROM:-0500
TZOFFSETTO:-0400
TZNAME:EDT
DTSTART:20240310T070000
END:DAYLIGHT
BEGIN:STANDARD
TZOFFSETFROM:-0400
TZOFFSETTO:-0500
TZNAME:EST
DTSTART:20241103T060000
END:STANDARD
BEGIN:DAYLIGHT
TZOFFSETFROM:-0500
TZOFFSETTO:-0400
TZNAME:EDT
DTSTART:20250309T070000
END:DAYLIGHT
BEGIN:STANDARD
TZOFFSETFROM:-0400
TZOFFSETTO:-0500
TZNAME:EST
DTSTART:20251102T060000
END:STANDARD
BEGIN:DAYLIGHT
TZOFFSETFROM:-0500
TZOFFSETTO:-0400
TZNAME:EDT
DTSTART:20260308T070000
END:DAYLIGHT
BEGIN:STANDARD
TZOFFSETFROM:-0400
TZOFFSETTO:-0500
TZNAME:EST
DTSTART:20261101T060000
END:STANDARD
END:VTIMEZONE
BEGIN:VEVENT
DTSTART;VALUE=DATE:20250429
DTEND;VALUE=DATE:20250503
DTSTAMP:20260422T010945
CREATED:20250126T222713Z
LAST-MODIFIED:20250126T223046Z
UID:7333-1745884800-1746230399@electrosource.com
SUMMARY:PCB East 2025 Conference & Exhibition
DESCRIPTION:Network with peers\, colleagues and experts. Connect with fabricators\, assemblers and engineers from around the world. It’s the place to be in the Northeast. \n\n\n\n\n\n\n\n\n\n\n\n\n\n\n\n\n\n\nGet real\, practical\, in-depth training and information from leading industry experts.Improve your skills\, increase your knowledge and learn from the best. \n\n\n\n\n\n\n\n\n\n\n\n\n\n\n\n\n\n\nSee the latest innovations from the electronics supply chain at our free exhibition. Check out exhibitors displaying the latest software\, services and products
URL:https://electrosource.com/event/pcb-east-2025-conference-exhibition/
LOCATION:Boxboro Regency Hotel and Conference Center\, 242 Adams Pl\, Boxborough\, MA\, 01719\, United States
CATEGORIES:Conference
ATTACH;FMTTYPE=image/png:https://electrosource.com/wp-content/uploads/2025/01/pcbeast2025.png
ORGANIZER;CN="PCEA":MAILTO:jb@pcea.net
END:VEVENT
END:VCALENDAR