BEGIN:VCALENDAR
VERSION:2.0
PRODID:-//Electro Source Inc. - ECPv6.15.20//NONSGML v1.0//EN
CALSCALE:GREGORIAN
METHOD:PUBLISH
X-WR-CALNAME:Electro Source Inc.
X-ORIGINAL-URL:https://electrosource.com
X-WR-CALDESC:Events for Electro Source Inc.
REFRESH-INTERVAL;VALUE=DURATION:PT1H
X-Robots-Tag:noindex
X-PUBLISHED-TTL:PT1H
BEGIN:VTIMEZONE
TZID:America/Toronto
BEGIN:DAYLIGHT
TZOFFSETFROM:-0500
TZOFFSETTO:-0400
TZNAME:EDT
DTSTART:20240310T070000
END:DAYLIGHT
BEGIN:STANDARD
TZOFFSETFROM:-0400
TZOFFSETTO:-0500
TZNAME:EST
DTSTART:20241103T060000
END:STANDARD
BEGIN:DAYLIGHT
TZOFFSETFROM:-0500
TZOFFSETTO:-0400
TZNAME:EDT
DTSTART:20250309T070000
END:DAYLIGHT
BEGIN:STANDARD
TZOFFSETFROM:-0400
TZOFFSETTO:-0500
TZNAME:EST
DTSTART:20251102T060000
END:STANDARD
BEGIN:DAYLIGHT
TZOFFSETFROM:-0500
TZOFFSETTO:-0400
TZNAME:EDT
DTSTART:20260308T070000
END:DAYLIGHT
BEGIN:STANDARD
TZOFFSETFROM:-0400
TZOFFSETTO:-0500
TZNAME:EST
DTSTART:20261101T060000
END:STANDARD
END:VTIMEZONE
BEGIN:VEVENT
DTSTART;VALUE=DATE:20250602
DTEND;VALUE=DATE:20250606
DTSTAMP:20260421T233235
CREATED:20251018T150714Z
LAST-MODIFIED:20251018T150714Z
UID:7426-1748822400-1749167999@electrosource.com
SUMMARY:Realize LIVE 2025
DESCRIPTION:Realize LIVE 2025 is here — Siemens’ premier digital transformation conference.\nEach year\, Siemens customers\, partners\, and industry experts come together to explore innovations shaping the future of engineering and manufacturing — and this year is no exception. From real-world use cases to expert-led sessions\, Realize LIVE connects the global community to exchange insights\, discover the latest technologies\, and share best practices. \nIf manufacturing engineering\, planning\, industrial engineering\, or simulation aligns with your expertise\, Realize LIVE 2025 is an event to consider. And if you’re already attending\, you can expect a highly valuable and insightful experience. \nBefore diving into what’s ahead at this year’s event\, be sure to mark your calendar!
URL:https://electrosource.com/event/realize-live-2025/
LOCATION:Huntington Place\, Detroit\, MI\, United States
CATEGORIES:Conference
ATTACH;FMTTYPE=image/png:https://electrosource.com/wp-content/uploads/2025/10/realize-live-2025-bild-6_original.png
END:VEVENT
END:VCALENDAR