BEGIN:VCALENDAR
VERSION:2.0
PRODID:-//Electro Source Inc. - ECPv6.15.20//NONSGML v1.0//EN
CALSCALE:GREGORIAN
METHOD:PUBLISH
X-WR-CALNAME:Electro Source Inc.
X-ORIGINAL-URL:https://electrosource.com
X-WR-CALDESC:Events for Electro Source Inc.
REFRESH-INTERVAL;VALUE=DURATION:PT1H
X-Robots-Tag:noindex
X-PUBLISHED-TTL:PT1H
BEGIN:VTIMEZONE
TZID:America/Toronto
BEGIN:DAYLIGHT
TZOFFSETFROM:-0500
TZOFFSETTO:-0400
TZNAME:EDT
DTSTART:20240310T070000
END:DAYLIGHT
BEGIN:STANDARD
TZOFFSETFROM:-0400
TZOFFSETTO:-0500
TZNAME:EST
DTSTART:20241103T060000
END:STANDARD
BEGIN:DAYLIGHT
TZOFFSETFROM:-0500
TZOFFSETTO:-0400
TZNAME:EDT
DTSTART:20250309T070000
END:DAYLIGHT
BEGIN:STANDARD
TZOFFSETFROM:-0400
TZOFFSETTO:-0500
TZNAME:EST
DTSTART:20251102T060000
END:STANDARD
BEGIN:DAYLIGHT
TZOFFSETFROM:-0500
TZOFFSETTO:-0400
TZNAME:EDT
DTSTART:20260308T070000
END:DAYLIGHT
BEGIN:STANDARD
TZOFFSETFROM:-0400
TZOFFSETTO:-0500
TZNAME:EST
DTSTART:20261101T060000
END:STANDARD
END:VTIMEZONE
BEGIN:VEVENT
DTSTART;VALUE=DATE:20250615
DTEND;VALUE=DATE:20250621
DTSTAMP:20260421T234954
CREATED:20250126T222511Z
LAST-MODIFIED:20250126T223028Z
UID:7350-1749945600-1750463999@electrosource.com
SUMMARY:IMS 2025
DESCRIPTION:Preliminary Week At a Glance (subject to change): \n\n\n\nSunday\, 15 June 2025\n\n\nWorkshops\nQuantum Boot Camp\nRFIC Technical Lecture\nAI/ML Boot Camp\nRFIC Plenary Session\nRFIC Symposium Showcase\nRFIC Reception\n\n\n\n\nMonday\, 16 June 2025\n\n\nWorkshops\nRF Boot Camp\nWPT Boot Camp\nRFIC Technical Sessions\nRFIC Panel Session\nThree Minute Thesis\nIMS Industry Showcase\nIMS Plenary Session\nIMS Welcome Reception\n\n\n\n\nTuesday\, 17 June 2025\n\n\nRFIC Technical Sessions\nIMS Technical Sessions\nIMS Student Design Competitions\nIMS/RFIC Joint Panel Session\nIMS Exhibition\nMicroApps\nIndustry Workshops\nIMS Executive Forum\nIMS Rump Session\nRFIC Industry Chip Chat\nMTT-S Journals Reception\nHAM Radio Social\nYoung Professionals (YP) Reception\nWomen in Microwaves (WIM) Reception\n\n\n\n\nWednesday\, 18 June 2025\n\n\nIMS Technical Sessions and Interactive Forum\nHands On Experiential Activity\nIMS Panel Session\nIMS Exhibition\nMicroApps\nIndustry Workshops\nFuture Networks Summit\nIndustry Hosted Reception\nMTT-S Awards Banquet\n\n\n\n\nThursday\, 19 June 2025\n\n\nIMS Technical Sessions and Interactive Forum\nHands On Experiential Activity\nIMS Panel Session\nIMS Exhibition\nMicroApps\nIndustry Workshops\nWIM/YP Joint Panel Session\nIMS Closing Session\n\n\n\n\nFriday\, 20 June 2025\n\n\n105th ARFTG
URL:https://electrosource.com/event/ims-2025/
LOCATION:Moscone Center\, San Francisco\, CA\, United States
CATEGORIES:Conference
ATTACH;FMTTYPE=image/png:https://electrosource.com/wp-content/uploads/2025/01/IMS.png
END:VEVENT
END:VCALENDAR