BEGIN:VCALENDAR
VERSION:2.0
PRODID:-//Electro Source Inc. - ECPv6.15.20//NONSGML v1.0//EN
CALSCALE:GREGORIAN
METHOD:PUBLISH
X-ORIGINAL-URL:https://electrosource.com
X-WR-CALDESC:Events for Electro Source Inc.
REFRESH-INTERVAL;VALUE=DURATION:PT1H
X-Robots-Tag:noindex
X-PUBLISHED-TTL:PT1H
BEGIN:VTIMEZONE
TZID:America/Toronto
BEGIN:DAYLIGHT
TZOFFSETFROM:-0500
TZOFFSETTO:-0400
TZNAME:EDT
DTSTART:20240310T070000
END:DAYLIGHT
BEGIN:STANDARD
TZOFFSETFROM:-0400
TZOFFSETTO:-0500
TZNAME:EST
DTSTART:20241103T060000
END:STANDARD
BEGIN:DAYLIGHT
TZOFFSETFROM:-0500
TZOFFSETTO:-0400
TZNAME:EDT
DTSTART:20250309T070000
END:DAYLIGHT
BEGIN:STANDARD
TZOFFSETFROM:-0400
TZOFFSETTO:-0500
TZNAME:EST
DTSTART:20251102T060000
END:STANDARD
BEGIN:DAYLIGHT
TZOFFSETFROM:-0500
TZOFFSETTO:-0400
TZNAME:EDT
DTSTART:20260308T070000
END:DAYLIGHT
BEGIN:STANDARD
TZOFFSETFROM:-0400
TZOFFSETTO:-0500
TZNAME:EST
DTSTART:20261101T060000
END:STANDARD
END:VTIMEZONE
BEGIN:VEVENT
DTSTART;VALUE=DATE:20250802
DTEND;VALUE=DATE:20250808
DTSTAMP:20260421T195134
CREATED:20251018T150713Z
LAST-MODIFIED:20251018T150713Z
UID:7431-1754092800-1754611199@electrosource.com
SUMMARY:Black Hat USA 2025
DESCRIPTION:Black Hat USA returns to the Mandalay Bay Convention Center in Las Vegas with a 6-day program. The event will open with four days of specialized cybersecurity Trainings (August 2-5)\, with courses for all skill levels. Also taking place during Black Hat USA is Summit Day on Tuesday\, August 5\, followed by the two-day main conference on August 6 & 7 featuring more than 100 selected Briefings\, dozens of open-source tool demos in Arsenal\, a robust Business Hall\, networking and social events\, and much more. View Pass Options »
URL:https://electrosource.com/event/black-hat-usa-2025/
LOCATION:Mandalay Bay Convention Center\, Las Vegas\, NV\, United States
CATEGORIES:Conference
ATTACH;FMTTYPE=image/webp:https://electrosource.com/wp-content/uploads/2025/10/Black-Hat.webp
END:VEVENT
END:VCALENDAR