BEGIN:VCALENDAR
VERSION:2.0
PRODID:-//Electro Source Inc. - ECPv6.15.20//NONSGML v1.0//EN
CALSCALE:GREGORIAN
METHOD:PUBLISH
X-WR-CALNAME:Electro Source Inc.
X-ORIGINAL-URL:https://electrosource.com
X-WR-CALDESC:Events for Electro Source Inc.
REFRESH-INTERVAL;VALUE=DURATION:PT1H
X-Robots-Tag:noindex
X-PUBLISHED-TTL:PT1H
BEGIN:VTIMEZONE
TZID:America/Toronto
BEGIN:DAYLIGHT
TZOFFSETFROM:-0500
TZOFFSETTO:-0400
TZNAME:EDT
DTSTART:20250309T070000
END:DAYLIGHT
BEGIN:STANDARD
TZOFFSETFROM:-0400
TZOFFSETTO:-0500
TZNAME:EST
DTSTART:20251102T060000
END:STANDARD
BEGIN:DAYLIGHT
TZOFFSETFROM:-0500
TZOFFSETTO:-0400
TZNAME:EDT
DTSTART:20260308T070000
END:DAYLIGHT
BEGIN:STANDARD
TZOFFSETFROM:-0400
TZOFFSETTO:-0500
TZNAME:EST
DTSTART:20261101T060000
END:STANDARD
BEGIN:DAYLIGHT
TZOFFSETFROM:-0500
TZOFFSETTO:-0400
TZNAME:EDT
DTSTART:20270314T070000
END:DAYLIGHT
BEGIN:STANDARD
TZOFFSETFROM:-0400
TZOFFSETTO:-0500
TZNAME:EST
DTSTART:20271107T060000
END:STANDARD
END:VTIMEZONE
BEGIN:VEVENT
DTSTART;VALUE=DATE:20260310
DTEND;VALUE=DATE:20260313
DTSTAMP:20260421T132558
CREATED:20260218T025602Z
LAST-MODIFIED:20260218T025602Z
UID:7707-1773100800-1773359999@electrosource.com
SUMMARY:HIMSS 26
DESCRIPTION:IEI Technology USA Corp. invites you to explore our latest advancements in medical computing at HIMSS 2026. We are showcasing a new generation of medical-grade AI Box PCs and versatile AIO Panel PCs designed to redefine Medical AI Imaging and optimize EMR (Electronic Medical Record) workflows. \n  \nBeyond our off-the-shelf platforms\, we specialize in custom design services for IEC 60601-certified computing products\, ensuring your specialized medical devices meet the highest safety and performance standards. Whether for surgical suites\, diagnostic imaging\, or mobile clinics\, IEI provides the reliability and innovation modern healthcare demands. \n  \nVisit IEI at Booth #3909 (Venetian\, Level 2) to experience live demos and see how our AI-driven solutions are transforming the future of patient care.
URL:https://electrosource.com/event/himss-26/
LOCATION:Venetian Expo & Convention Center\, Las Vegas\, 201 Sands Avenue\, Las Vegas\, NV\, 89169\, United States
CATEGORIES:Conference
ATTACH;FMTTYPE=image/png:https://electrosource.com/wp-content/uploads/2026/02/Himss-iEi.png
END:VEVENT
END:VCALENDAR