BEGIN:VCALENDAR
VERSION:2.0
PRODID:-//Electro Source Inc. - ECPv6.15.20//NONSGML v1.0//EN
CALSCALE:GREGORIAN
METHOD:PUBLISH
X-ORIGINAL-URL:https://electrosource.com
X-WR-CALDESC:Events for Electro Source Inc.
REFRESH-INTERVAL;VALUE=DURATION:PT1H
X-Robots-Tag:noindex
X-PUBLISHED-TTL:PT1H
BEGIN:VTIMEZONE
TZID:America/Toronto
BEGIN:DAYLIGHT
TZOFFSETFROM:-0500
TZOFFSETTO:-0400
TZNAME:EDT
DTSTART:20220313T070000
END:DAYLIGHT
BEGIN:STANDARD
TZOFFSETFROM:-0400
TZOFFSETTO:-0500
TZNAME:EST
DTSTART:20221106T060000
END:STANDARD
BEGIN:DAYLIGHT
TZOFFSETFROM:-0500
TZOFFSETTO:-0400
TZNAME:EDT
DTSTART:20230312T070000
END:DAYLIGHT
BEGIN:STANDARD
TZOFFSETFROM:-0400
TZOFFSETTO:-0500
TZNAME:EST
DTSTART:20231105T060000
END:STANDARD
BEGIN:DAYLIGHT
TZOFFSETFROM:-0500
TZOFFSETTO:-0400
TZNAME:EDT
DTSTART:20240310T070000
END:DAYLIGHT
BEGIN:STANDARD
TZOFFSETFROM:-0400
TZOFFSETTO:-0500
TZNAME:EST
DTSTART:20241103T060000
END:STANDARD
BEGIN:DAYLIGHT
TZOFFSETFROM:-0500
TZOFFSETTO:-0400
TZNAME:EDT
DTSTART:20250309T070000
END:DAYLIGHT
BEGIN:STANDARD
TZOFFSETFROM:-0400
TZOFFSETTO:-0500
TZNAME:EST
DTSTART:20251102T060000
END:STANDARD
BEGIN:DAYLIGHT
TZOFFSETFROM:-0500
TZOFFSETTO:-0400
TZNAME:EDT
DTSTART:20260308T070000
END:DAYLIGHT
BEGIN:STANDARD
TZOFFSETFROM:-0400
TZOFFSETTO:-0500
TZNAME:EST
DTSTART:20261101T060000
END:STANDARD
END:VTIMEZONE
BEGIN:VEVENT
DTSTART;VALUE=DATE:20250615
DTEND;VALUE=DATE:20250621
DTSTAMP:20260421T112511
CREATED:20250126T222511Z
LAST-MODIFIED:20250126T223028Z
UID:7350-1749945600-1750463999@electrosource.com
SUMMARY:IMS 2025
DESCRIPTION:Preliminary Week At a Glance (subject to change): \n\n\n\nSunday\, 15 June 2025\n\n\nWorkshops\nQuantum Boot Camp\nRFIC Technical Lecture\nAI/ML Boot Camp\nRFIC Plenary Session\nRFIC Symposium Showcase\nRFIC Reception\n\n\n\n\nMonday\, 16 June 2025\n\n\nWorkshops\nRF Boot Camp\nWPT Boot Camp\nRFIC Technical Sessions\nRFIC Panel Session\nThree Minute Thesis\nIMS Industry Showcase\nIMS Plenary Session\nIMS Welcome Reception\n\n\n\n\nTuesday\, 17 June 2025\n\n\nRFIC Technical Sessions\nIMS Technical Sessions\nIMS Student Design Competitions\nIMS/RFIC Joint Panel Session\nIMS Exhibition\nMicroApps\nIndustry Workshops\nIMS Executive Forum\nIMS Rump Session\nRFIC Industry Chip Chat\nMTT-S Journals Reception\nHAM Radio Social\nYoung Professionals (YP) Reception\nWomen in Microwaves (WIM) Reception\n\n\n\n\nWednesday\, 18 June 2025\n\n\nIMS Technical Sessions and Interactive Forum\nHands On Experiential Activity\nIMS Panel Session\nIMS Exhibition\nMicroApps\nIndustry Workshops\nFuture Networks Summit\nIndustry Hosted Reception\nMTT-S Awards Banquet\n\n\n\n\nThursday\, 19 June 2025\n\n\nIMS Technical Sessions and Interactive Forum\nHands On Experiential Activity\nIMS Panel Session\nIMS Exhibition\nMicroApps\nIndustry Workshops\nWIM/YP Joint Panel Session\nIMS Closing Session\n\n\n\n\nFriday\, 20 June 2025\n\n\n105th ARFTG
URL:https://electrosource.com/event/ims-2025/
LOCATION:Moscone Center\, San Francisco\, CA\, United States
CATEGORIES:Conference
ATTACH;FMTTYPE=image/png:https://electrosource.com/wp-content/uploads/2025/01/IMS.png
END:VEVENT
BEGIN:VEVENT
DTSTART;VALUE=DATE:20250602
DTEND;VALUE=DATE:20250606
DTSTAMP:20260421T112511
CREATED:20251018T150714Z
LAST-MODIFIED:20251018T150714Z
UID:7426-1748822400-1749167999@electrosource.com
SUMMARY:Realize LIVE 2025
DESCRIPTION:Realize LIVE 2025 is here — Siemens’ premier digital transformation conference.\nEach year\, Siemens customers\, partners\, and industry experts come together to explore innovations shaping the future of engineering and manufacturing — and this year is no exception. From real-world use cases to expert-led sessions\, Realize LIVE connects the global community to exchange insights\, discover the latest technologies\, and share best practices. \nIf manufacturing engineering\, planning\, industrial engineering\, or simulation aligns with your expertise\, Realize LIVE 2025 is an event to consider. And if you’re already attending\, you can expect a highly valuable and insightful experience. \nBefore diving into what’s ahead at this year’s event\, be sure to mark your calendar!
URL:https://electrosource.com/event/realize-live-2025/
LOCATION:Huntington Place\, Detroit\, MI\, United States
CATEGORIES:Conference
ATTACH;FMTTYPE=image/png:https://electrosource.com/wp-content/uploads/2025/10/realize-live-2025-bild-6_original.png
END:VEVENT
BEGIN:VEVENT
DTSTART;VALUE=DATE:20250514
DTEND;VALUE=DATE:20250517
DTSTAMP:20260421T112511
CREATED:20250126T222522Z
LAST-MODIFIED:20250126T223039Z
UID:7340-1747180800-1747439999@electrosource.com
SUMMARY:Army Aviation Missions Solutions Summit
DESCRIPTION:JOIN US IN NASHVILLE —-THE MUST ATTEND EVENT\nThe annual Summit is the ONLY opportunity for the ENTIRE Army Aviation Community to gather in one place at one time focused solely on Army Aviation issues. There are opportunities to Network\, be Recognized\, have your Voice heard and Support our Soldiers and their Families.
URL:https://electrosource.com/event/army-aviation-missions-solutions-summit/
LOCATION:Gaylord Opryland Resort & Convention Center\, 2800 Opryland Dr\, Nashville\, TN\, 37214\, United States
CATEGORIES:Conference
ATTACH;FMTTYPE=image/jpeg:https://electrosource.com/wp-content/uploads/2025/01/aams.jpg
END:VEVENT
BEGIN:VEVENT
DTSTART;VALUE=DATE:20250507
DTEND;VALUE=DATE:20250508
DTSTAMP:20260421T112511
CREATED:20251018T150714Z
LAST-MODIFIED:20251018T150714Z
UID:7423-1746576000-1746662399@electrosource.com
SUMMARY:EPTECH Canada’s National Electronics Show
DESCRIPTION:
URL:https://electrosource.com/event/eptech-canadas-national-electronics-show/
LOCATION:DoubleTree par Hilton Pointe-Claire Montréal Aéroport Ouest\, 6700 TransCanada Highway\, Pointe-Claire\, QC\, H9R1C2\, Canada
CATEGORIES:Conference
ATTACH;FMTTYPE=image/jpeg:https://electrosource.com/wp-content/uploads/2025/10/maxresdefault.jpg
END:VEVENT
BEGIN:VEVENT
DTSTART;VALUE=DATE:20250429
DTEND;VALUE=DATE:20250503
DTSTAMP:20260421T112511
CREATED:20250126T222713Z
LAST-MODIFIED:20250126T223046Z
UID:7333-1745884800-1746230399@electrosource.com
SUMMARY:PCB East 2025 Conference & Exhibition
DESCRIPTION:Network with peers\, colleagues and experts. Connect with fabricators\, assemblers and engineers from around the world. It’s the place to be in the Northeast. \n\n\n\n\n\n\n\n\n\n\n\n\n\n\n\n\n\n\nGet real\, practical\, in-depth training and information from leading industry experts.Improve your skills\, increase your knowledge and learn from the best. \n\n\n\n\n\n\n\n\n\n\n\n\n\n\n\n\n\n\nSee the latest innovations from the electronics supply chain at our free exhibition. Check out exhibitors displaying the latest software\, services and products
URL:https://electrosource.com/event/pcb-east-2025-conference-exhibition/
LOCATION:Boxboro Regency Hotel and Conference Center\, 242 Adams Pl\, Boxborough\, MA\, 01719\, United States
CATEGORIES:Conference
ATTACH;FMTTYPE=image/png:https://electrosource.com/wp-content/uploads/2025/01/pcbeast2025.png
ORGANIZER;CN="PCEA":MAILTO:jb@pcea.net
END:VEVENT
BEGIN:VEVENT
DTSTART;VALUE=DATE:20250416
DTEND;VALUE=DATE:20250417
DTSTAMP:20260421T112511
CREATED:20251018T150714Z
LAST-MODIFIED:20251018T150714Z
UID:7417-1744761600-1744847999@electrosource.com
SUMMARY:EPTECH Canada’s National Electronics Show
DESCRIPTION:
URL:https://electrosource.com/event/eptech-canadas-national-electronics-show-2/
LOCATION:Sheraton Parkway Toronto North\, 600 Highway 7\, Richmond Hill\, ON\, L4B 1B2\, Canada
CATEGORIES:Conference
ATTACH;FMTTYPE=image/jpeg:https://electrosource.com/wp-content/uploads/2025/10/maxresdefault.jpg
END:VEVENT
BEGIN:VEVENT
DTSTART;VALUE=DATE:20250406
DTEND;VALUE=DATE:20250410
DTSTAMP:20260421T112511
CREATED:20250126T222721Z
LAST-MODIFIED:20250126T223053Z
UID:7327-1743897600-1744243199@electrosource.com
SUMMARY:Sea Air Space 2025
DESCRIPTION:Bringing the Sea Services and\nMaritime Industry Together\n\n\n\n\n\n\n\n\n\n\n\nPowered by the Navy League of the United States\, Sea-Air-Space is the premier maritime exposition in the U.S.\, bringing together defense industry leaders and top military decision-makers from around the world to share the latest advancements in the maritime domain. With industry leading speakers and events featured across three impactful days\, Sea-Air-Space is a must-attend for anyone invested in the future of U.S. maritime strength and innovation.
URL:https://electrosource.com/event/sea-air-space-2025/
LOCATION:Gaylord National Resort & Convention Center\, 201 Waterfront St\, Oxon Hill\, MD\, 20745\, United States
CATEGORIES:Conference
ATTACH;FMTTYPE=image/png:https://electrosource.com/wp-content/uploads/2025/01/SeaAirSpace.png
END:VEVENT
BEGIN:VEVENT
DTSTART;VALUE=DATE:20250318
DTEND;VALUE=DATE:20250321
DTSTAMP:20260421T112511
CREATED:20250126T222732Z
LAST-MODIFIED:20250126T223408Z
UID:7321-1742256000-1742515199@electrosource.com
SUMMARY:IPC 2025
DESCRIPTION:IPC APEX EXPO is the largest event in North America for the electronics industry. OEMs\, EMS providers\, PCB manufacturers and industry professionals from around the globe come together to access the latest technical content\, contribute to standards development\, and network with the industry’s largest gathering of capital equipment manufacturers\, suppliers\, and product innovators in design\, printed board manufacturing\, electronics assembly\, and test. The event offers nearly endless opportunities for education and networking. Attendees gain access to cutting-edge technologies\, advanced materials\, and the latest processes\, equipping them with the knowledge\, technical skills\, and best practices to reimagine the possibilities to drive your business forward.
URL:https://electrosource.com/event/ipc-2025/
LOCATION:Anaheim Convention Center\, 800 W Katella Ave\, Anaheim\, CA\, 92802\, United States
CATEGORIES:Conference
ATTACH;FMTTYPE=image/webp:https://electrosource.com/wp-content/uploads/2025/01/apex-expo.webp
ORGANIZER;CN="IPC":MAILTO:Contact.Us@ipc.org
END:VEVENT
BEGIN:VEVENT
DTSTART;VALUE=DATE:20250316
DTEND;VALUE=DATE:20250321
DTSTAMP:20260421T112511
CREATED:20250126T102801Z
LAST-MODIFIED:20250126T223101Z
UID:7312-1742083200-1742515199@electrosource.com
SUMMARY:APEC 2025
DESCRIPTION:Focusing on the practical and applied aspects of the power electronics business. This is not just a designer’s conference; APEC has something of interest for anyone involved in power electronics.
URL:https://electrosource.com/event/apec-2025/
LOCATION:Georgia World Congress Center\, Atlanta\, GA\, United States
CATEGORIES:Conference
ATTACH;FMTTYPE=image/jpeg:https://electrosource.com/wp-content/uploads/2025/01/APEC2025-scaled.jpg
ORGANIZER;CN="APEC":MAILTO:apec@apec-conf.org
END:VEVENT
BEGIN:VEVENT
DTSTART;VALUE=DATE:20230709
DTEND;VALUE=DATE:20230714
DTSTAMP:20260421T112511
CREATED:20230420T235820Z
LAST-MODIFIED:20250126T222637Z
UID:6785-1688860800-1689292799@electrosource.com
SUMMARY:Design Automation Conference 2023
DESCRIPTION:Hear from thought leaders and industry legends with access to Visionary and Keynote Sessions on the third floor as well as SKYTalks\, TechTalks and Panels in the DAC Pavilion.\nBrowse and network with industry exhibitors and sponsors from today’s leading and emerging companies in Artificial Intelligence/ Machine Learning (AI/ ML)\, Autonomous Systems\, Design Services\, Design on Cloud\, Electronic Design Automation (EDA)\, Embedded Systems and Software\, Intellectual Property (IP) and Security/Privacy.
URL:https://electrosource.com/event/design-automation-conference-2023/
LOCATION:Moscone Center\, San Francisco\, CA\, United States
CATEGORIES:Conference
ATTACH;FMTTYPE=image/png:https://electrosource.com/wp-content/uploads/2023/04/DAC-Event.png
ORGANIZER;CN="Design Automation Conference":MAILTO:info@dac.com
END:VEVENT
END:VCALENDAR