BEGIN:VCALENDAR
VERSION:2.0
PRODID:-//Electro Source Inc. - ECPv6.15.20//NONSGML v1.0//EN
CALSCALE:GREGORIAN
METHOD:PUBLISH
X-ORIGINAL-URL:https://electrosource.com
X-WR-CALDESC:Events for Electro Source Inc.
REFRESH-INTERVAL;VALUE=DURATION:PT1H
X-Robots-Tag:noindex
X-PUBLISHED-TTL:PT1H
BEGIN:VTIMEZONE
TZID:America/Toronto
BEGIN:DAYLIGHT
TZOFFSETFROM:-0500
TZOFFSETTO:-0400
TZNAME:EDT
DTSTART:20240310T070000
END:DAYLIGHT
BEGIN:STANDARD
TZOFFSETFROM:-0400
TZOFFSETTO:-0500
TZNAME:EST
DTSTART:20241103T060000
END:STANDARD
BEGIN:DAYLIGHT
TZOFFSETFROM:-0500
TZOFFSETTO:-0400
TZNAME:EDT
DTSTART:20250309T070000
END:DAYLIGHT
BEGIN:STANDARD
TZOFFSETFROM:-0400
TZOFFSETTO:-0500
TZNAME:EST
DTSTART:20251102T060000
END:STANDARD
BEGIN:DAYLIGHT
TZOFFSETFROM:-0500
TZOFFSETTO:-0400
TZNAME:EDT
DTSTART:20260308T070000
END:DAYLIGHT
BEGIN:STANDARD
TZOFFSETFROM:-0400
TZOFFSETTO:-0500
TZNAME:EST
DTSTART:20261101T060000
END:STANDARD
BEGIN:DAYLIGHT
TZOFFSETFROM:-0500
TZOFFSETTO:-0400
TZNAME:EDT
DTSTART:20270314T070000
END:DAYLIGHT
BEGIN:STANDARD
TZOFFSETFROM:-0400
TZOFFSETTO:-0500
TZNAME:EST
DTSTART:20271107T060000
END:STANDARD
END:VTIMEZONE
BEGIN:VEVENT
DTSTART;VALUE=DATE:20251007
DTEND;VALUE=DATE:20251010
DTSTAMP:20260422T182435
CREATED:20251018T150713Z
LAST-MODIFIED:20251018T150713Z
UID:7444-1759795200-1760054399@electrosource.com
SUMMARY:SEMICON WEST 2025
DESCRIPTION:As the flagship annual event for the global microelectronics and manufacturing industry. \n\nSEMICON West brings the incredibly diverse global electronics supply chain together to address the semiconductor ecosystem’s greatest opportunities and challenges through programs highlighting: \nMarket Intelligence | Standards | Sustainability | Workforce Development | SEMI University | Supply Chain Management | and Much More!
URL:https://electrosource.com/event/semicon-west-2025/
LOCATION:Phoenix Convention Center\, 100 N 3rd St\, Phoenix\, AZ\, 85004\, United States
CATEGORIES:Conference
ATTACH;FMTTYPE=image/png:https://electrosource.com/wp-content/uploads/2025/10/banner.png
END:VEVENT
BEGIN:VEVENT
DTSTART;VALUE=DATE:20251014
DTEND;VALUE=DATE:20251018
DTSTAMP:20260422T182435
CREATED:20251018T150713Z
LAST-MODIFIED:20251018T150713Z
UID:7440-1760400000-1760745599@electrosource.com
SUMMARY:2025 NACS Show
DESCRIPTION:Toshiba Global Commerce Solutions will showcase how technology\, design\, and data are reshaping the convenience and fuel industry at the 2025 National Association of Convenience Stores (NACS) Show. From October 14 to 17 at McCormick Place in Chicago (Booth S5388—Technology Hall)\, Toshiba will highlight the latest modular and customized solutions and strategies that help stores run more efficiently and improve the customer experience.
URL:https://electrosource.com/event/2025-nacs-show/
LOCATION:McCormick Place\, 2301 S Martin Luther King Dr\, Chicago\, IL\, 60616\, United States
CATEGORIES:Conference
ATTACH;FMTTYPE=image/webp:https://electrosource.com/wp-content/uploads/2025/10/NACS-Show-Attendee-Image.webp
END:VEVENT
BEGIN:VEVENT
DTSTART;VALUE=DATE:20260106
DTEND;VALUE=DATE:20260110
DTSTAMP:20260422T182435
CREATED:20251113T185833Z
LAST-MODIFIED:20251113T185833Z
UID:7486-1767657600-1768003199@electrosource.com
SUMMARY:CES 2026
DESCRIPTION:The world’s most powerful tech event is your place to experience the innovations transforming how we live. \n\n\n\n\nThis is where global brands get business done\, meet new partners and where the industry’s sharpest minds take the stage to unveil their latest releases and boldest breakthroughs. Get a real feel for the latest solutions to the world’s biggest challenges with immersive activations and demos. Engage with the greatest minds and most impactful brands of our time.
URL:https://electrosource.com/event/ces-2026/
CATEGORIES:Conference
ATTACH;FMTTYPE=image/webp:https://electrosource.com/wp-content/uploads/2025/11/20250922200301_CES2026-Audio-Motif-TWeb.webp
END:VEVENT
BEGIN:VEVENT
DTSTART;VALUE=DATE:20260119
DTEND;VALUE=DATE:20260123
DTSTAMP:20260422T182435
CREATED:20260106T212147Z
LAST-MODIFIED:20260106T212147Z
UID:7507-1768780800-1769126399@electrosource.com
SUMMARY:IMAC 2026
DESCRIPTION:IMAC is a conference and exposition focusing on structural dynamics and has evolved to encompass the latest technologies supporting structural dynamics. This broad focus on structural dynamics includes topics in simulation and modeling\, nonlinear dynamics\, sensors\, signal processing and control spanning the full range of engineering disciplines. \nIMAC remains a friendly conference where exhibitors\, presenters and attendees spend several days exchanging the ideas that fuel the coming year.
URL:https://electrosource.com/event/imac-2026/
LOCATION:Riviera Resort & Spa Palm Springs
CATEGORIES:Conference
END:VEVENT
BEGIN:VEVENT
DTSTART;VALUE=DATE:20260310
DTEND;VALUE=DATE:20260313
DTSTAMP:20260422T182435
CREATED:20260218T025602Z
LAST-MODIFIED:20260218T025602Z
UID:7707-1773100800-1773359999@electrosource.com
SUMMARY:HIMSS 26
DESCRIPTION:IEI Technology USA Corp. invites you to explore our latest advancements in medical computing at HIMSS 2026. We are showcasing a new generation of medical-grade AI Box PCs and versatile AIO Panel PCs designed to redefine Medical AI Imaging and optimize EMR (Electronic Medical Record) workflows. \n  \nBeyond our off-the-shelf platforms\, we specialize in custom design services for IEC 60601-certified computing products\, ensuring your specialized medical devices meet the highest safety and performance standards. Whether for surgical suites\, diagnostic imaging\, or mobile clinics\, IEI provides the reliability and innovation modern healthcare demands. \n  \nVisit IEI at Booth #3909 (Venetian\, Level 2) to experience live demos and see how our AI-driven solutions are transforming the future of patient care.
URL:https://electrosource.com/event/himss-26/
LOCATION:Venetian Expo & Convention Center\, Las Vegas\, 201 Sands Avenue\, Las Vegas\, NV\, 89169\, United States
CATEGORIES:Conference
ATTACH;FMTTYPE=image/png:https://electrosource.com/wp-content/uploads/2026/02/Himss-iEi.png
END:VEVENT
BEGIN:VEVENT
DTSTART;VALUE=DATE:20260322
DTEND;VALUE=DATE:20260327
DTSTAMP:20260422T182435
CREATED:20251018T150713Z
LAST-MODIFIED:20251018T150713Z
UID:7453-1774137600-1774569599@electrosource.com
SUMMARY:APEC 2026
DESCRIPTION:IEEE Applied Power Electronics Conference and Exposition\n\nFocusing on the practical and applied aspects of the power electronics business. This is not just a designer’s conference; APEC has something of interest for anyone involved in power electronics.
URL:https://electrosource.com/event/apec-2026/
LOCATION:Henry B. Gonzalez Convention Center\, 900 E Market Street\, San Antonio\, TX\, 78205\, United States
CATEGORIES:Conference
ATTACH;FMTTYPE=image/webp:https://electrosource.com/wp-content/uploads/2025/10/APEC-2026-logo.webp
ORGANIZER;CN="APEC":MAILTO:apec@apec-conf.org
END:VEVENT
BEGIN:VEVENT
DTSTART;VALUE=DATE:20260322
DTEND;VALUE=DATE:20260327
DTSTAMP:20260422T182435
CREATED:20260218T030928Z
LAST-MODIFIED:20260218T044732Z
UID:7712-1774137600-1774569599@electrosource.com
SUMMARY:APEC 2026
DESCRIPTION:For 150 years\, Toshiba has built trusted technologies and enduring partnerships that drive progress across industries. Our semiconductors sit at the core of the systems shaping modern life – and the ones being built next – from mobility and infrastructure to data and beyond. \nClick here to view the invite. \n \nLocation: Booth #1753\nTo schedule your meeting at APEC\, contact Susan Duarte\nat Susan.Duarte@toshiba.com \n 
URL:https://electrosource.com/event/apec-2026-toshiba/
LOCATION:Henry B. Gonzalez Convention Center\, 900 E Market Street\, San Antonio\, TX\, 78205\, United States
CATEGORIES:Conference
END:VEVENT
BEGIN:VEVENT
DTSTART;VALUE=DATE:20260323
DTEND;VALUE=DATE:20260327
DTSTAMP:20260422T182435
CREATED:20260210T023440Z
LAST-MODIFIED:20260210T023440Z
UID:7684-1774224000-1774569599@electrosource.com
SUMMARY:RSAC 2026
DESCRIPTION:The Power of Community Starts with You:\nRegistration for RSAC 2026 is Now Open!\nIdeas become breakthroughs when shared. Challenges become opportunities when tackled together. That’s the Power of Community—a key focus for RSAC™ 2026 Conference. Real change happens when cybersecurity professionals unite. \nWhether you’re an RSAC™ Conference first-timer or a returning attendee you won’t want to miss what’s in store for RSAC 2026.
URL:https://electrosource.com/event/rsac-2026/
LOCATION:Moscone Center\, San Francisco\, CA\, United States
CATEGORIES:Conference
END:VEVENT
BEGIN:VEVENT
DTSTART;VALUE=DATE:20260323
DTEND;VALUE=DATE:20260327
DTSTAMP:20260422T182435
CREATED:20260311T015736Z
LAST-MODIFIED:20260311T015736Z
UID:7983-1774224000-1774569599@electrosource.com
SUMMARY:RSA Conference 2026
DESCRIPTION:Come visit IEI at the RSAC 2026! \nWe’re thrilled to invite you to join us at RSA Conference 2026\, taking place March 23–26 at the Moscone Center in San Francisco. As one of the world’s premier cybersecurity events\, RSAC 2026 is the ideal platform to explore cutting-edge technologies and connect with industry leaders. Visit us at Booth #3141 in the South Expo to experience our latest OT Security innovations and see how IEI Technology USA Corp. is driving the future of digital security. Register today using our complimentary passcode 52E1187XP to secure your free pass!
URL:https://electrosource.com/event/rsa-conference-2026/
LOCATION:Moscone Center\, San Francisco\, CA\, United States
CATEGORIES:Conference
ATTACH;FMTTYPE=image/png:https://electrosource.com/wp-content/uploads/2026/03/Copy-of-700-x-267-Email-top-header1.png
END:VEVENT
BEGIN:VEVENT
DTSTART;VALUE=DATE:20260601
DTEND;VALUE=DATE:20260605
DTSTAMP:20260422T182435
CREATED:20251018T150713Z
LAST-MODIFIED:20251018T150713Z
UID:7457-1780272000-1780617599@electrosource.com
SUMMARY:Realize LIVE Americas 2026
DESCRIPTION:Our community of thinkers and doers in design\, manufacturing and lifecycle management to accelerate your digital transformation.
URL:https://electrosource.com/event/realize-live-americas-2026/
CATEGORIES:Conference
ATTACH;FMTTYPE=image/jpeg:https://electrosource.com/wp-content/uploads/2025/10/siemens-realize-live-1200x600-1.jpeg
END:VEVENT
BEGIN:VEVENT
DTSTART;VALUE=DATE:20260901
DTEND;VALUE=DATE:20260907
DTSTAMP:20260422T182435
CREATED:20260210T024303Z
LAST-MODIFIED:20260401T221522Z
UID:7691-1788220800-1788739199@electrosource.com
SUMMARY:Black Hat USA 2026
DESCRIPTION:
URL:https://electrosource.com/event/black-hat-usa/
LOCATION:Mandalay Bay Convention Center\, Las Vegas\, NV\, United States
CATEGORIES:Conference
END:VEVENT
BEGIN:VEVENT
DTSTART;VALUE=DATE:20261006
DTEND;VALUE=DATE:20261009
DTSTAMP:20260422T182435
CREATED:20260210T024101Z
LAST-MODIFIED:20260210T024101Z
UID:7687-1791244800-1791503999@electrosource.com
SUMMARY:Sector 2026 Toronto
DESCRIPTION:SecTor has built a reputation of bringing together experts from around the world to share their latest research and techniques involving underground threats and corporate defenses. The conference provides an unmatched opportunity for cybersecurity professionals\, managers\, and executives to connect with their peers and learn from their mentors.
URL:https://electrosource.com/event/sector-2026-toronto/
CATEGORIES:Conference
ATTACH;FMTTYPE=image/png:https://electrosource.com/wp-content/uploads/2026/02/rsac2026.png
END:VEVENT
END:VCALENDAR