BEGIN:VCALENDAR
VERSION:2.0
PRODID:-//Electro Source Inc. - ECPv6.15.20//NONSGML v1.0//EN
CALSCALE:GREGORIAN
METHOD:PUBLISH
X-ORIGINAL-URL:https://electrosource.com
X-WR-CALDESC:Events for Electro Source Inc.
REFRESH-INTERVAL;VALUE=DURATION:PT1H
X-Robots-Tag:noindex
X-PUBLISHED-TTL:PT1H
BEGIN:VTIMEZONE
TZID:America/Toronto
BEGIN:DAYLIGHT
TZOFFSETFROM:-0500
TZOFFSETTO:-0400
TZNAME:EDT
DTSTART:20250309T070000
END:DAYLIGHT
BEGIN:STANDARD
TZOFFSETFROM:-0400
TZOFFSETTO:-0500
TZNAME:EST
DTSTART:20251102T060000
END:STANDARD
BEGIN:DAYLIGHT
TZOFFSETFROM:-0500
TZOFFSETTO:-0400
TZNAME:EDT
DTSTART:20260308T070000
END:DAYLIGHT
BEGIN:STANDARD
TZOFFSETFROM:-0400
TZOFFSETTO:-0500
TZNAME:EST
DTSTART:20261101T060000
END:STANDARD
BEGIN:DAYLIGHT
TZOFFSETFROM:-0500
TZOFFSETTO:-0400
TZNAME:EDT
DTSTART:20270314T070000
END:DAYLIGHT
BEGIN:STANDARD
TZOFFSETFROM:-0400
TZOFFSETTO:-0500
TZNAME:EST
DTSTART:20271107T060000
END:STANDARD
END:VTIMEZONE
BEGIN:VEVENT
DTSTART;VALUE=DATE:20260323
DTEND;VALUE=DATE:20260327
DTSTAMP:20260422T031743
CREATED:20260311T015736Z
LAST-MODIFIED:20260311T015736Z
UID:7983-1774224000-1774569599@electrosource.com
SUMMARY:RSA Conference 2026
DESCRIPTION:Come visit IEI at the RSAC 2026! \nWe’re thrilled to invite you to join us at RSA Conference 2026\, taking place March 23–26 at the Moscone Center in San Francisco. As one of the world’s premier cybersecurity events\, RSAC 2026 is the ideal platform to explore cutting-edge technologies and connect with industry leaders. Visit us at Booth #3141 in the South Expo to experience our latest OT Security innovations and see how IEI Technology USA Corp. is driving the future of digital security. Register today using our complimentary passcode 52E1187XP to secure your free pass!
URL:https://electrosource.com/event/rsa-conference-2026/
LOCATION:Moscone Center\, San Francisco\, CA\, United States
CATEGORIES:Conference
ATTACH;FMTTYPE=image/png:https://electrosource.com/wp-content/uploads/2026/03/Copy-of-700-x-267-Email-top-header1.png
END:VEVENT
BEGIN:VEVENT
DTSTART;VALUE=DATE:20260601
DTEND;VALUE=DATE:20260605
DTSTAMP:20260422T031743
CREATED:20251018T150713Z
LAST-MODIFIED:20251018T150713Z
UID:7457-1780272000-1780617599@electrosource.com
SUMMARY:Realize LIVE Americas 2026
DESCRIPTION:Our community of thinkers and doers in design\, manufacturing and lifecycle management to accelerate your digital transformation.
URL:https://electrosource.com/event/realize-live-americas-2026/
CATEGORIES:Conference
ATTACH;FMTTYPE=image/jpeg:https://electrosource.com/wp-content/uploads/2025/10/siemens-realize-live-1200x600-1.jpeg
END:VEVENT
BEGIN:VEVENT
DTSTART;VALUE=DATE:20260901
DTEND;VALUE=DATE:20260907
DTSTAMP:20260422T031743
CREATED:20260210T024303Z
LAST-MODIFIED:20260401T221522Z
UID:7691-1788220800-1788739199@electrosource.com
SUMMARY:Black Hat USA 2026
DESCRIPTION:
URL:https://electrosource.com/event/black-hat-usa/
LOCATION:Mandalay Bay Convention Center\, Las Vegas\, NV\, United States
CATEGORIES:Conference
END:VEVENT
BEGIN:VEVENT
DTSTART;VALUE=DATE:20261006
DTEND;VALUE=DATE:20261009
DTSTAMP:20260422T031743
CREATED:20260210T024101Z
LAST-MODIFIED:20260210T024101Z
UID:7687-1791244800-1791503999@electrosource.com
SUMMARY:Sector 2026 Toronto
DESCRIPTION:SecTor has built a reputation of bringing together experts from around the world to share their latest research and techniques involving underground threats and corporate defenses. The conference provides an unmatched opportunity for cybersecurity professionals\, managers\, and executives to connect with their peers and learn from their mentors.
URL:https://electrosource.com/event/sector-2026-toronto/
CATEGORIES:Conference
ATTACH;FMTTYPE=image/png:https://electrosource.com/wp-content/uploads/2026/02/rsac2026.png
END:VEVENT
END:VCALENDAR