BEGIN:VCALENDAR
VERSION:2.0
PRODID:-//Electro Source Inc. - ECPv6.15.20//NONSGML v1.0//EN
CALSCALE:GREGORIAN
METHOD:PUBLISH
X-WR-CALNAME:Electro Source Inc.
X-ORIGINAL-URL:https://electrosource.com
X-WR-CALDESC:Events for Electro Source Inc.
REFRESH-INTERVAL;VALUE=DURATION:PT1H
X-Robots-Tag:noindex
X-PUBLISHED-TTL:PT1H
BEGIN:VTIMEZONE
TZID:America/Toronto
BEGIN:DAYLIGHT
TZOFFSETFROM:-0500
TZOFFSETTO:-0400
TZNAME:EDT
DTSTART:20250309T070000
END:DAYLIGHT
BEGIN:STANDARD
TZOFFSETFROM:-0400
TZOFFSETTO:-0500
TZNAME:EST
DTSTART:20251102T060000
END:STANDARD
BEGIN:DAYLIGHT
TZOFFSETFROM:-0500
TZOFFSETTO:-0400
TZNAME:EDT
DTSTART:20260308T070000
END:DAYLIGHT
BEGIN:STANDARD
TZOFFSETFROM:-0400
TZOFFSETTO:-0500
TZNAME:EST
DTSTART:20261101T060000
END:STANDARD
BEGIN:DAYLIGHT
TZOFFSETFROM:-0500
TZOFFSETTO:-0400
TZNAME:EDT
DTSTART:20270314T070000
END:DAYLIGHT
BEGIN:STANDARD
TZOFFSETFROM:-0400
TZOFFSETTO:-0500
TZNAME:EST
DTSTART:20271107T060000
END:STANDARD
END:VTIMEZONE
BEGIN:VEVENT
DTSTART;TZID=America/Toronto:20260211T083000
DTEND;TZID=America/Toronto:20260211T163000
DTSTAMP:20260421T225017
CREATED:20260117T004840Z
LAST-MODIFIED:20260117T004840Z
UID:7585-1770798600-1770827400@electrosource.com
SUMMARY:Siemens: Vibration Control In-Person Seminar
DESCRIPTION:Siemens and our Simcenter Testing partner Electro Source are presenting two in-person engineering seminars on February 10th and 11th\, 2026\, at the Siemens office in Montreal. \n\nModal Analysis (Feb 10)\nVibration Control (Feb 11)\n\nThese seminars answer questions like: \n\nHow to identify the natural frequencies and modes of a structure?\nHow to correlate and update dynamic simulation models?\nHow can I use field data to design a shaker test profile?\nHow is a Power Spectral Density calculated? How is Shock Response Spectrum calculated?\nHow do Random Control\, Sine Control\, and Shock Response Testing work?\n\n8:30 AM Coffee/Pastries (Presentation starts at 9:00 am)\n9:00       Introduction to Environmental Testing \n\nReplicating vibration environments\nDigital Signal Basics\nWhat is a Power Spectral Density?\nFundamentals of a control system\n\n10:30     Sine Control \n\nAmplitude Estimators\nCompression Factor\nNotching and Limiting\nAverage Control\nTracked Sine Dwell\n\nNoon Lunch (Courtesy Siemens and Electro Source)\n1:00       Random Control \n\nSystem Identification & Verification\nDOFs\, Averages per Loop\nKurtosis\nCombined Modes\n\n2:00    Time Waveform Replication \n\nSingle-axis waveform replication (SAWR)\nControl strategies\nLissajous Plots and Error Minimization\n\n3:00    Shock Control \n\nClassical Shock Pulses\nWhat is a Shock Response Spectrum (SRS)?\nShock waveform generation based on SRS\n\n4:00 End
URL:https://electrosource.com/event/siemens-vibration-control-in-person-seminar/
LOCATION:SIemens Montreal Office\, Siemens Canada\, 5006 Levy Street\, Montreal\, Quebec\, H4R 2N9\, Canada
CATEGORIES:Seminar
END:VEVENT
END:VCALENDAR