BEGIN:VCALENDAR
VERSION:2.0
PRODID:-//Electro Source Inc. - ECPv6.15.20//NONSGML v1.0//EN
CALSCALE:GREGORIAN
METHOD:PUBLISH
X-ORIGINAL-URL:https://electrosource.com
X-WR-CALDESC:Events for Electro Source Inc.
REFRESH-INTERVAL;VALUE=DURATION:PT1H
X-Robots-Tag:noindex
X-PUBLISHED-TTL:PT1H
BEGIN:VTIMEZONE
TZID:America/Toronto
BEGIN:DAYLIGHT
TZOFFSETFROM:-0500
TZOFFSETTO:-0400
TZNAME:EDT
DTSTART:20200308T070000
END:DAYLIGHT
BEGIN:STANDARD
TZOFFSETFROM:-0400
TZOFFSETTO:-0500
TZNAME:EST
DTSTART:20201101T060000
END:STANDARD
BEGIN:DAYLIGHT
TZOFFSETFROM:-0500
TZOFFSETTO:-0400
TZNAME:EDT
DTSTART:20210314T070000
END:DAYLIGHT
BEGIN:STANDARD
TZOFFSETFROM:-0400
TZOFFSETTO:-0500
TZNAME:EST
DTSTART:20211107T060000
END:STANDARD
BEGIN:DAYLIGHT
TZOFFSETFROM:-0500
TZOFFSETTO:-0400
TZNAME:EDT
DTSTART:20220313T070000
END:DAYLIGHT
BEGIN:STANDARD
TZOFFSETFROM:-0400
TZOFFSETTO:-0500
TZNAME:EST
DTSTART:20221106T060000
END:STANDARD
BEGIN:DAYLIGHT
TZOFFSETFROM:-0500
TZOFFSETTO:-0400
TZNAME:EDT
DTSTART:20230312T070000
END:DAYLIGHT
BEGIN:STANDARD
TZOFFSETFROM:-0400
TZOFFSETTO:-0500
TZNAME:EST
DTSTART:20231105T060000
END:STANDARD
BEGIN:DAYLIGHT
TZOFFSETFROM:-0500
TZOFFSETTO:-0400
TZNAME:EDT
DTSTART:20240310T070000
END:DAYLIGHT
BEGIN:STANDARD
TZOFFSETFROM:-0400
TZOFFSETTO:-0500
TZNAME:EST
DTSTART:20241103T060000
END:STANDARD
BEGIN:DAYLIGHT
TZOFFSETFROM:-0500
TZOFFSETTO:-0400
TZNAME:EDT
DTSTART:20250309T070000
END:DAYLIGHT
BEGIN:STANDARD
TZOFFSETFROM:-0400
TZOFFSETTO:-0500
TZNAME:EST
DTSTART:20251102T060000
END:STANDARD
BEGIN:DAYLIGHT
TZOFFSETFROM:-0500
TZOFFSETTO:-0400
TZNAME:EDT
DTSTART:20260308T070000
END:DAYLIGHT
BEGIN:STANDARD
TZOFFSETFROM:-0400
TZOFFSETTO:-0500
TZNAME:EST
DTSTART:20261101T060000
END:STANDARD
BEGIN:DAYLIGHT
TZOFFSETFROM:-0500
TZOFFSETTO:-0400
TZNAME:EDT
DTSTART:20270314T070000
END:DAYLIGHT
BEGIN:STANDARD
TZOFFSETFROM:-0400
TZOFFSETTO:-0500
TZNAME:EST
DTSTART:20271107T060000
END:STANDARD
END:VTIMEZONE
BEGIN:VEVENT
DTSTART;TZID=America/Toronto:20260217T130000
DTEND;TZID=America/Toronto:20260217T140000
DTSTAMP:20260421T190020
CREATED:20260207T015608Z
LAST-MODIFIED:20260207T015608Z
UID:7669-1771333200-1771336800@electrosource.com
SUMMARY:Shock Control
DESCRIPTION:The world is full of transient events that need to be quantified: earthquakes\, pyrotechnic explosions\, and harsh bumps. Learn how shock control testing is used to quantify and replicate these events on a shaker table.
URL:https://electrosource.com/event/shock-control/
LOCATION:Virtual
CATEGORIES:Webinar
END:VEVENT
BEGIN:VEVENT
DTSTART;TZID=America/Toronto:20260213T130000
DTEND;TZID=America/Toronto:20260213T140000
DTSTAMP:20260421T190020
CREATED:20260207T015429Z
LAST-MODIFIED:20260207T015429Z
UID:7667-1770987600-1770991200@electrosource.com
SUMMARY:Human Body Vibration
DESCRIPTION:Vibration can have significant impacts on the perceived comfort of a product. Learn how to measure vibration at human interface locations (hand-arm\, whole body) and rate the comfort (and safety) according to ISO 5439 and 2631 standards.
URL:https://electrosource.com/event/human-body-vibration/
LOCATION:Virtual
CATEGORIES:Webinar
END:VEVENT
BEGIN:VEVENT
DTSTART;TZID=America/Toronto:20260212T130000
DTEND;TZID=America/Toronto:20260212T140000
DTSTAMP:20260421T190020
CREATED:20260207T013443Z
LAST-MODIFIED:20260207T013443Z
UID:7664-1770901200-1770904800@electrosource.com
SUMMARY:What is Crackmaster?
DESCRIPTION:A small tap and the resulting acoustic emission (ie\, ping sound\, even ultrasonically) makes finding cracks and other faults in a manufactured parts a snap! Learn how to test production parts quickly in a non-destructive manner in this online seminar.
URL:https://electrosource.com/event/what-is-crackmaster/
LOCATION:Virtual
CATEGORIES:Webinar
END:VEVENT
BEGIN:VEVENT
DTSTART;TZID=America/Toronto:20260211T130000
DTEND;TZID=America/Toronto:20260211T140000
DTSTAMP:20260421T190020
CREATED:20260207T012537Z
LAST-MODIFIED:20260207T012537Z
UID:7662-1770814800-1770818400@electrosource.com
SUMMARY:Angle Domain: Practical Examples
DESCRIPTION:Practical examples will be used to demonstrate how the angle domain can give additional insights into noise and vibration issues that traditional time-frequency methods cannot.
URL:https://electrosource.com/event/angle-domain-practical-examples/
LOCATION:Virtual
CATEGORIES:Webinar
END:VEVENT
BEGIN:VEVENT
DTSTART;TZID=America/Toronto:20260210T130000
DTEND;TZID=America/Toronto:20260210T140000
DTSTAMP:20260421T190020
CREATED:20260207T011714Z
LAST-MODIFIED:20260207T011714Z
UID:7660-1770728400-1770732000@electrosource.com
SUMMARY:Time Signal Editing – Classic and Neo
DESCRIPTION:Need to edit time throughput data? Simcenter Testlab has two great options\, “Classic” Time Signal Calculator and Neo Interactive Analysis. Learn how to use both tools to perform math functions\, segment editing\, and batch processing.
URL:https://electrosource.com/event/time-signal-editing-classic-and-neo/
LOCATION:Virtual
CATEGORIES:Webinar
END:VEVENT
BEGIN:VEVENT
DTSTART;TZID=America/Toronto:20260130T130000
DTEND;TZID=America/Toronto:20260130T140000
DTSTAMP:20260421T190020
CREATED:20260112T205638Z
LAST-MODIFIED:20260112T205638Z
UID:7575-1769778000-1769781600@electrosource.com
SUMMARY:Simcenter Testlab Classic Display Tips and Tricks
DESCRIPTION:Master the full capabilities of Simcenter Testlab’s displays\, and all tips and tricks for the best ways to display data. Learn about different processing cursors and instant processing methods available in displays and learn how to use active pictures to show data in presentations. 
URL:https://electrosource.com/event/simcenter-testlab-classic-display-tips-and-tricks/
LOCATION:Virtual
CATEGORIES:Webinar
END:VEVENT
BEGIN:VEVENT
DTSTART;TZID=America/Toronto:20260129T130000
DTEND;TZID=America/Toronto:20260129T140000
DTSTAMP:20260421T190020
CREATED:20260112T205229Z
LAST-MODIFIED:20260112T205229Z
UID:7573-1769691600-1769695200@electrosource.com
SUMMARY:Batch Reporting
DESCRIPTION:Want to make a multi-page PowerPoint in a few button clicks? Learn efficient techniques to create reports such as creating custom plots\, format based printing\, and batch printing.  Webinar will cover both Simcenter Testlab “classic” and Simcenter Testlab Neo.
URL:https://electrosource.com/event/batch-reporting/
LOCATION:Virtual
CATEGORIES:Webinar
END:VEVENT
BEGIN:VEVENT
DTSTART;TZID=America/Toronto:20260128T130000
DTEND;TZID=America/Toronto:20260128T140000
DTSTAMP:20260421T190020
CREATED:20260112T204701Z
LAST-MODIFIED:20260112T204701Z
UID:7571-1769605200-1769608800@electrosource.com
SUMMARY:DSP Fundamentals
DESCRIPTION:Gain a better understanding of how Digital Signal Processing (DSP) parameters affect your data. Topics include sample frequency\, frequency resolution\, windowing\, aliasing\, sample frames vs increments\, ranging\, and more. 
URL:https://electrosource.com/event/dsp-fundamentals/
LOCATION:Virtual
CATEGORIES:Webinar
END:VEVENT
BEGIN:VEVENT
DTSTART;TZID=America/Toronto:20260127T130000
DTEND;TZID=America/Toronto:20260127T140000
DTSTAMP:20260421T190020
CREATED:20260112T204551Z
LAST-MODIFIED:20260112T204551Z
UID:7569-1769518800-1769522400@electrosource.com
SUMMARY:Sound Camera Array Data Analysis
DESCRIPTION:Gain a better understanding of how to maximize the value of sound camera measurement data using Simcenter Testlab Array Data Analysis. Topics include sound power calculations\, post processing microphone array data\, listening to sound sources\, and coherent averaging.
URL:https://electrosource.com/event/sound-camera-array-data-analysis/
LOCATION:Virtual
CATEGORIES:Webinar
END:VEVENT
BEGIN:VEVENT
DTSTART;TZID=America/Toronto:20260126T130000
DTEND;TZID=America/Toronto:20260126T140000
DTSTAMP:20260421T190020
CREATED:20260112T204123Z
LAST-MODIFIED:20260112T204333Z
UID:7567-1769432400-1769436000@electrosource.com
SUMMARY:SCADAS RS Modal Testing and Operational Animation
DESCRIPTION:The SCADAS RS is a ruggedized data acquisition system that can be used to take field data under extreme conditions. This webinar will demonstrate two additional use cases for the SCADAS RS hardware: modal Impact testing and operational data animations.
URL:https://electrosource.com/event/scadas-rs-modal-testing-and-operational-animation/
LOCATION:Virtual
CATEGORIES:Webinar
END:VEVENT
BEGIN:VEVENT
DTSTART;TZID=America/Toronto:20260122T130000
DTEND;TZID=America/Toronto:20260122T140000
DTSTAMP:20260421T190020
CREATED:20260112T203742Z
LAST-MODIFIED:20260112T203742Z
UID:7565-1769086800-1769090400@electrosource.com
SUMMARY:Matrix Inversion for TPA in Classic and Neo
DESCRIPTION:Looking to estimate the forces generated while your product operates?  Learn how to use Frequency Response Functions and matrix inversion to estimate forces using both Simcenter Testlab Classic and Simcenter Testlab Neo Transfer Path.
URL:https://electrosource.com/event/matrix-inversion-for-tpa-in-classic-and-neo/
LOCATION:Virtual
CATEGORIES:Webinar
END:VEVENT
BEGIN:VEVENT
DTSTART;TZID=America/Toronto:20260121T130000
DTEND;TZID=America/Toronto:20260121T140000
DTSTAMP:20260421T190020
CREATED:20260112T203619Z
LAST-MODIFIED:20260112T203619Z
UID:7563-1769000400-1769004000@electrosource.com
SUMMARY:Intro to Microphones
DESCRIPTION:Learn the basics of how different microphones work! What is the difference between measuring in a free field and diffuse sound field?  When to use condenser or surface microphones?  Does using pre-polarized versus 200V polarized microphones make a difference?
URL:https://electrosource.com/event/intro-to-microphones/
LOCATION:Virtual
CATEGORIES:Webinar
END:VEVENT
BEGIN:VEVENT
DTSTART;TZID=America/Toronto:20260120T130000
DTEND;TZID=America/Toronto:20260120T140000
DTSTAMP:20260421T190020
CREATED:20260112T203452Z
LAST-MODIFIED:20260112T203452Z
UID:7561-1768914000-1768917600@electrosource.com
SUMMARY:International Roughness Index (IRI)
DESCRIPTION:Can vehicles developed for latte sipping customers survive the rough roads of emerging markets? The International Roughness Index (IRI) was developed to classify road surfaces.  See how Simcenter Testlab Neo can be used to calculate the IRI of measured road surfaces.
URL:https://electrosource.com/event/international-roughness-index-iri/
LOCATION:Virtual
CATEGORIES:Webinar
END:VEVENT
BEGIN:VEVENT
DTSTART;TZID=America/Toronto:20260116T130000
DTEND;TZID=America/Toronto:20260116T140000
DTSTAMP:20260421T190020
CREATED:20260112T203301Z
LAST-MODIFIED:20260112T203301Z
UID:7559-1768568400-1768572000@electrosource.com
SUMMARY:Order Based Modal Analysis: Not Just a Phase!
DESCRIPTION:Learn how Order-Based Modal Analysis (OBMA) can be used for estimating the modal parameters in operating conditions in case of dominant rotating component excitations (blades\, rotors\, gears\, shafts).
URL:https://electrosource.com/event/order-based-modal-analysis-not-just-a-phase/
LOCATION:Virtual
CATEGORIES:Webinar
END:VEVENT
BEGIN:VEVENT
DTSTART;TZID=America/Toronto:20260114T130000
DTEND;TZID=America/Toronto:20260114T140000
DTSTAMP:20260421T190020
CREATED:20260112T203118Z
LAST-MODIFIED:20260112T203118Z
UID:7557-1768395600-1768399200@electrosource.com
SUMMARY:Angle Domain Measurements
DESCRIPTION:Processing time data into the angle domain can give additional insights into noise and vibration issues that traditional time-frequency methods cannot.  Timing issues within a rotation of a mechanical system can be identified and resolved by viewing data versus degrees rather than seconds.
URL:https://electrosource.com/event/angle-domain-measurements/
LOCATION:Virtual
CATEGORIES:Webinar
END:VEVENT
BEGIN:VEVENT
DTSTART;TZID=America/Toronto:20260113T130000
DTEND;TZID=America/Toronto:20260113T140000
DTSTAMP:20260421T190020
CREATED:20260112T202712Z
LAST-MODIFIED:20260112T202712Z
UID:7555-1768309200-1768312800@electrosource.com
SUMMARY:Brake Performance Testing
DESCRIPTION:A dive into a real world application: brake performance testing.  Learn how Simcenter Testlab Neo can be used to perform automatic calculations on stopping distance\, brake pedal effort\, brake fade temperatures\, and more!  Example data collected with SCADAS RS hardware with wireless upload.
URL:https://electrosource.com/event/brake-performance-testing/
LOCATION:Virtual
CATEGORIES:Webinar
END:VEVENT
BEGIN:VEVENT
DTSTART;VALUE=DATE:20211019
DTEND;VALUE=DATE:20211022
DTSTAMP:20260421T190020
CREATED:20210917T233530Z
LAST-MODIFIED:20210917T233652Z
UID:6355-1634601600-1634860799@electrosource.com
SUMMARY:Arm DevSummit 2021
DESCRIPTION:WHERE HARDWARE AND SOFTWARE JOIN FORCES\nEngineers\, developers\, and tech enthusiasts: Arm DevSummit 2021 is coming to your screens October 19-21. This three-day virtual conference serves up insights into the latest technology trends\, gives you an opportunity to up-level your skills in technical sessions and hands-on workshops\, and offers the chance to network with like-minded software developers and hardware designers. \nJoin us online to learn how Arm combines the power of specialized processing with the design freedom and accessibility of general-purpose compute to help you unlock the power of technology for any device\, from edge to cloud. \nCome and join the millions of active developers in our community and help us spark the world’s technology potential. Together\, we can create positive impact at scale through building energy-efficient high-performance computing solutions.
URL:https://electrosource.com/event/arm-devsummit-2021/
LOCATION:Virtual
CATEGORIES:Webinar
ATTACH;FMTTYPE=image/jpeg:https://electrosource.com/wp-content/uploads/2021/09/arm-devsummit-1024x576-1.jpg
END:VEVENT
BEGIN:VEVENT
DTSTART;TZID=America/Toronto:20210922T120000
DTEND;TZID=America/Toronto:20210922T170000
DTSTAMP:20260421T190020
CREATED:20210917T234256Z
LAST-MODIFIED:20210917T234256Z
UID:6359-1632312000-1632330000@electrosource.com
SUMMARY:Get Smart: Use Simulation to Accelerate API Testing
DESCRIPTION:How Smart Is Your Testing? \nUI testing alone may not reach coverage or quality goals. By expanding to the API layer\, API test automation can cover more of the application in less time to deliver better software faster. \nGo one step further and use simulation to create a virtual copy that behaves just like the real thing! Your testing continues without interruptions! Join our upcoming webinar to learn how to implement continuous testing the smart way. \nKey Takeaways  \n\nOptimize integration testing with reusable and robust API tests.\nLeverage virtual services to ensure high availability and early access to integrated test environments.\nStreamline the feedback loop to management with traceability and reporting.
URL:https://electrosource.com/event/get-smart-use-simulation-to-accelerate-api-testing/
LOCATION:Virtual
CATEGORIES:Webinar
ATTACH;FMTTYPE=image/png:https://electrosource.com/wp-content/uploads/2021/09/parasoftevent.png
END:VEVENT
END:VCALENDAR