BEGIN:VCALENDAR
VERSION:2.0
PRODID:-//Electro Source Inc. - ECPv6.15.20//NONSGML v1.0//EN
CALSCALE:GREGORIAN
METHOD:PUBLISH
X-WR-CALNAME:Electro Source Inc.
X-ORIGINAL-URL:https://electrosource.com
X-WR-CALDESC:Events for Electro Source Inc.
REFRESH-INTERVAL;VALUE=DURATION:PT1H
X-Robots-Tag:noindex
X-PUBLISHED-TTL:PT1H
BEGIN:VTIMEZONE
TZID:America/Toronto
BEGIN:DAYLIGHT
TZOFFSETFROM:-0500
TZOFFSETTO:-0400
TZNAME:EDT
DTSTART:20250309T070000
END:DAYLIGHT
BEGIN:STANDARD
TZOFFSETFROM:-0400
TZOFFSETTO:-0500
TZNAME:EST
DTSTART:20251102T060000
END:STANDARD
BEGIN:DAYLIGHT
TZOFFSETFROM:-0500
TZOFFSETTO:-0400
TZNAME:EDT
DTSTART:20260308T070000
END:DAYLIGHT
BEGIN:STANDARD
TZOFFSETFROM:-0400
TZOFFSETTO:-0500
TZNAME:EST
DTSTART:20261101T060000
END:STANDARD
BEGIN:DAYLIGHT
TZOFFSETFROM:-0500
TZOFFSETTO:-0400
TZNAME:EDT
DTSTART:20270314T070000
END:DAYLIGHT
BEGIN:STANDARD
TZOFFSETFROM:-0400
TZOFFSETTO:-0500
TZNAME:EST
DTSTART:20271107T060000
END:STANDARD
END:VTIMEZONE
BEGIN:VEVENT
DTSTART;TZID=America/Toronto:20260227T130000
DTEND;TZID=America/Toronto:20260227T140000
DTSTAMP:20260422T175026
CREATED:20260207T021543Z
LAST-MODIFIED:20260207T021543Z
UID:7681-1772197200-1772200800@electrosource.com
SUMMARY:Audio Replay and Equalization
DESCRIPTION:Learn why binaural recording is one of the most accurate ways to record a sound. Additionally\, understand the importance of equalization for calculating accurate sound quality metrics in Simcenter Testlab.
URL:https://electrosource.com/event/audio-replay-and-equalization/
LOCATION:Virtual
CATEGORIES:Webinar
END:VEVENT
BEGIN:VEVENT
DTSTART;TZID=America/Toronto:20260310T130000
DTEND;TZID=America/Toronto:20260310T140000
DTSTAMP:20260422T175026
CREATED:20260311T004114Z
LAST-MODIFIED:20260311T004114Z
UID:7961-1773147600-1773151200@electrosource.com
SUMMARY:Sound Intensity Analysis
DESCRIPTION:Sound intensity is the measure of the flow of sound. Sound intensity is represented with both magnitude and direction. Get a background on the theory of sound intensity\, then learn how to use Simcenter Testlab to process sound intensity data.
URL:https://electrosource.com/event/sound-intensity-analysis/
LOCATION:Virtual
CATEGORIES:Webinar
END:VEVENT
BEGIN:VEVENT
DTSTART;TZID=America/Toronto:20260311T130000
DTEND;TZID=America/Toronto:20260311T140000
DTSTAMP:20260422T175026
CREATED:20260311T005303Z
LAST-MODIFIED:20260311T005303Z
UID:7963-1773234000-1773237600@electrosource.com
SUMMARY:Mission Synthesis and Test Tailoring
DESCRIPTION:Mission synthesis uses measured data to define test specifications for vibration control testing. Test tailoring allows for tests that accurately represent loads that the product experiences in the field\, even while reproducing them at an accelerated rate. This webinar will include both theory and software demonstrations.
URL:https://electrosource.com/event/mission-synthesis-and-test-tailoring/
LOCATION:Virtual
CATEGORIES:Webinar
END:VEVENT
BEGIN:VEVENT
DTSTART;TZID=America/Toronto:20260313T130000
DTEND;TZID=America/Toronto:20260313T140000
DTSTAMP:20260422T175026
CREATED:20260311T005420Z
LAST-MODIFIED:20260311T005420Z
UID:7965-1773406800-1773410400@electrosource.com
SUMMARY:What is the Crackmaster?
DESCRIPTION:A small tap and the resulting acoustic emission (ie\, ping sound\, even ultrasonically) makes finding cracks and other faults in a manufactured parts a snap! Learn how to test production parts quickly in a non-destructive manner in this online seminar.
URL:https://electrosource.com/event/what-is-the-crackmaster/
LOCATION:Virtual
CATEGORIES:Webinar
END:VEVENT
BEGIN:VEVENT
DTSTART;TZID=America/Toronto:20260316T130000
DTEND;TZID=America/Toronto:20260316T140000
DTSTAMP:20260422T175026
CREATED:20260311T005534Z
LAST-MODIFIED:20260311T005534Z
UID:7967-1773666000-1773669600@electrosource.com
SUMMARY:Offline Sine Data Reduction
DESCRIPTION:Sine Data Reduction is used for processing spectrums and Frequency Response Function (FRFs) from a sine sweep test. This can be performed live during a test and in post processing. Learn how the COLA (Constant Output Level Amplitude) signal is used to tie the control data with the recorded data for processing.
URL:https://electrosource.com/event/offline-sine-data-reduction/
LOCATION:Virtual
CATEGORIES:Webinar
END:VEVENT
BEGIN:VEVENT
DTSTART;TZID=America/Toronto:20260317T130000
DTEND;TZID=America/Toronto:20260317T140000
DTSTAMP:20260422T175026
CREATED:20260311T010022Z
LAST-MODIFIED:20260311T010022Z
UID:7969-1773752400-1773756000@electrosource.com
SUMMARY:Digital Signal Processing Basics: Sample Rate and Anti-Aliasing
DESCRIPTION:Gain a better understanding of how digital processing parameters affect your data. Find out how sample rates and anti-aliasing filters affect digital data acquisition in Simcenter Testlab with live demonstrations.
URL:https://electrosource.com/event/digital-signal-processing-basics-sample-rate-and-anti-aliasing/
LOCATION:Virtual
CATEGORIES:Webinar
END:VEVENT
BEGIN:VEVENT
DTSTART;TZID=America/Toronto:20260318T130000
DTEND;TZID=America/Toronto:20260318T140000
DTSTAMP:20260422T175026
CREATED:20260311T011004Z
LAST-MODIFIED:20260311T020038Z
UID:7971-1773838800-1773842400@electrosource.com
SUMMARY:TPA Matrix Inversion in Neo Using Spectrums\, Waterfalls\, and Throughput
DESCRIPTION:Looking to estimate the forces generated while your product operates?  Learn how to use Frequency Response Functions and matrix inversion to estimate forces. Software demonstrations will highlight how wateralls and throughput data can be used with Simcenter Testlab Neo Transfer Path Analysis (TPA).
URL:https://electrosource.com/event/tpa-matrix-inversion-in-neo-using-spectrums-waterfalls-and-throughput/
LOCATION:Virtual
CATEGORIES:Webinar
END:VEVENT
BEGIN:VEVENT
DTSTART;TZID=America/Toronto:20260327T130000
DTEND;TZID=America/Toronto:20260327T140000
DTSTAMP:20260422T175026
CREATED:20260311T012840Z
LAST-MODIFIED:20260311T012840Z
UID:7979-1774616400-1774620000@electrosource.com
SUMMARY:Getting Started with Testlab Neo
DESCRIPTION:Get started with Simcenter Testlab Neo!  This seminar is for beginners.  It covers everything acquiring data to analysis. Also learn how data is stored (Project\, Section\, Run) and plotted.
URL:https://electrosource.com/event/getting-started-with-testlab-neo/
LOCATION:Virtual
CATEGORIES:Webinar
END:VEVENT
BEGIN:VEVENT
DTSTART;TZID=America/Toronto:20260330T130000
DTEND;TZID=America/Toronto:20260330T140000
DTSTAMP:20260422T175026
CREATED:20260311T014451Z
LAST-MODIFIED:20260311T014451Z
UID:7981-1774875600-1774879200@electrosource.com
SUMMARY:Modal Analysis Features in Neo
DESCRIPTION:This webinar highlights Simcenter Testlab Neo’s new Modal Analysis features. Come learn about the AI assisted curve fitting process\, the modal dashboard\, and new stabilization diagram enhancements.   
URL:https://electrosource.com/event/modal-analysis-features-in-neo/
LOCATION:Virtual
CATEGORIES:Webinar
END:VEVENT
BEGIN:VEVENT
DTSTART;TZID=America/Toronto:20260409T130000
DTEND;TZID=America/Toronto:20260409T140000
DTSTAMP:20260422T175026
CREATED:20260408T233122Z
LAST-MODIFIED:20260408T233122Z
UID:8008-1775739600-1775743200@electrosource.com
SUMMARY:Block Calculator Method in Simcenter Testlab Neo
DESCRIPTION:Combine multiple channels of data such as accelerometers to create new metrics and other post processing. This can be done quickly and easily in Simcenter Testlab Neo using the Block calculator method. Combine channels for power averages\, human body vibration\, vector sums\, and more!
URL:https://electrosource.com/event/block-calculator-method-in-simcenter-testlab-neo/
LOCATION:Virtual
CATEGORIES:Webinar
END:VEVENT
BEGIN:VEVENT
DTSTART;TZID=America/Toronto:20260414T130000
DTEND;TZID=America/Toronto:20260414T140000
DTSTAMP:20260422T175026
CREATED:20260408T233403Z
LAST-MODIFIED:20260408T233403Z
UID:8010-1776171600-1776175200@electrosource.com
SUMMARY:Frames\, Increments\, Ramp Rates: Making Great Colormap Graphs
DESCRIPTION:Analyzing data from a testing article that is changing speed over time? How does the ramp rate versus the Fourier time block affect  the resulting colormap calculation?  Will orders and other phenomenon be shown clearly?  Will any data be left out?  Understand the trade-offs of different  processing settings.
URL:https://electrosource.com/event/frames-increments-ramp-rates-making-great-colormap-graphs/
LOCATION:Virtual
CATEGORIES:Webinar
END:VEVENT
BEGIN:VEVENT
DTSTART;TZID=America/Toronto:20260415T130000
DTEND;TZID=America/Toronto:20260415T140000
DTSTAMP:20260422T175026
CREATED:20260408T233647Z
LAST-MODIFIED:20260408T233647Z
UID:8012-1776258000-1776261600@electrosource.com
SUMMARY:Simcenter Testlab Active Pictures Tips and Tricks
DESCRIPTION:Boss wants you to change all the data plots in your report? One of the most convenient features of Simcenter Testlab is the active pictures function. Edit living graphs directly in Powerpoint\, Excel or Word documents to make life easier.
URL:https://electrosource.com/event/simcenter-testlab-active-pictures-tips-and-tricks/
LOCATION:Virtual
CATEGORIES:Webinar
END:VEVENT
BEGIN:VEVENT
DTSTART;TZID=America/Toronto:20260416T130000
DTEND;TZID=America/Toronto:20260416T140000
DTSTAMP:20260422T175026
CREATED:20260408T233755Z
LAST-MODIFIED:20260408T233755Z
UID:8014-1776344400-1776348000@electrosource.com
SUMMARY:Targets in Simcenter Testlab Neo
DESCRIPTION:Have limit lines for vibration or sound?  Learn how to process orders\, spectrums\, and more to compare against limit lines automatically and flag outliers.  Make overlay plots and summary tables quickly.
URL:https://electrosource.com/event/targets-in-simcenter-testlab-neo/
LOCATION:Virtual
CATEGORIES:Webinar
END:VEVENT
BEGIN:VEVENT
DTSTART;TZID=America/Toronto:20260417T130000
DTEND;TZID=America/Toronto:20260417T140000
DTSTAMP:20260422T175026
CREATED:20260408T233920Z
LAST-MODIFIED:20260408T233920Z
UID:8016-1776430800-1776434400@electrosource.com
SUMMARY:Sample Rate\, Spectral Lines\, Block Size
DESCRIPTION:Learn how to select a sample rate\, and what spectral lines and block size mean when doing data collection and data analysis. This webinar dives into the basics of digital signal processing with an emphasis on Fourier transform parameters.
URL:https://electrosource.com/event/sample-rate-spectral-lines-block-size/
LOCATION:Virtual
CATEGORIES:Webinar
END:VEVENT
BEGIN:VEVENT
DTSTART;TZID=America/Toronto:20260420T130000
DTEND;TZID=America/Toronto:20260420T140000
DTSTAMP:20260422T175026
CREATED:20260408T234217Z
LAST-MODIFIED:20260408T234217Z
UID:8018-1776690000-1776693600@electrosource.com
SUMMARY:Random and Sine Vibration Control Testing
DESCRIPTION:Sine versus random! Understand the basics of why and how to setup two of the most popular closed-loop vibration control tests.
URL:https://electrosource.com/event/random-and-sine-vibration-control-testing/
LOCATION:Virtual
CATEGORIES:Webinar
END:VEVENT
BEGIN:VEVENT
DTSTART;TZID=America/Toronto:20260421T130000
DTEND;TZID=America/Toronto:20260421T140000
DTSTAMP:20260422T175026
CREATED:20260408T234443Z
LAST-MODIFIED:20260408T234443Z
UID:8020-1776776400-1776780000@electrosource.com
SUMMARY:Simcenter Testlab Licensing: Your Questions Answered
DESCRIPTION:How do I set up and manage my Simcenter Testlab licenses? What about a cloud server with tokens? How do I keep track of my CAD licenses for use in Simcenter Testlab Neo? Any licensing questions are welcome in this Q & A style webinar.
URL:https://electrosource.com/event/simcenter-testlab-licensing-your-questions-answered/
LOCATION:Virtual
CATEGORIES:Webinar
END:VEVENT
BEGIN:VEVENT
DTSTART;TZID=America/Toronto:20260428T130000
DTEND;TZID=America/Toronto:20260428T140000
DTSTAMP:20260422T175026
CREATED:20260408T234613Z
LAST-MODIFIED:20260408T234613Z
UID:8022-1777381200-1777384800@electrosource.com
SUMMARY:New Features in SCADAS RS: Scheduler
DESCRIPTION:Learn some of the latest features of SCADAS RS Recorder App\, including the “Scheduler”.  Create a list of test conditions to measure\, and the “Scheduler” will keep the data acquisition campaign on track!
URL:https://electrosource.com/event/new-features-in-scadas-rs-scheduler/
LOCATION:Virtual
CATEGORIES:Webinar
END:VEVENT
BEGIN:VEVENT
DTSTART;TZID=America/Toronto:20260429T130000
DTEND;TZID=America/Toronto:20260429T140000
DTSTAMP:20260422T175026
CREATED:20260408T234912Z
LAST-MODIFIED:20260408T234912Z
UID:8024-1777467600-1777471200@electrosource.com
SUMMARY:Simcenter Testlab Workflow Automation
DESCRIPTION:Testlab Workflow Automation (TWA) streamlines data analysis by automatically processing all uploaded field data on a central server. From direct SCADAS acquisition to manual uploads\, it handles it all! The web interface provides real-time visibility into processing job status.
URL:https://electrosource.com/event/simcenter-testlab-workflow-automation/
LOCATION:Virtual
CATEGORIES:Webinar
END:VEVENT
BEGIN:VEVENT
DTSTART;TZID=America/Toronto:20260430T130000
DTEND;TZID=America/Toronto:20260430T140000
DTSTAMP:20260422T175026
CREATED:20260408T235124Z
LAST-MODIFIED:20260408T235124Z
UID:8026-1777554000-1777557600@electrosource.com
SUMMARY:Sound Power in Simcenter Testlab Neo
DESCRIPTION:Sound power measures the noise level of a test object independently of the environment and measurement locations.  Learn how sound power measurements work in this webinar as well as features in Simcenter Testlab Neo that support sound power calculations.
URL:https://electrosource.com/event/sound-power-in-simcenter-testlab-neo/
LOCATION:Virtual
CATEGORIES:Webinar
END:VEVENT
END:VCALENDAR