BEGIN:VCALENDAR
VERSION:2.0
PRODID:-//Electro Source Inc. - ECPv6.15.20//NONSGML v1.0//EN
CALSCALE:GREGORIAN
METHOD:PUBLISH
X-WR-CALNAME:Electro Source Inc.
X-ORIGINAL-URL:https://electrosource.com
X-WR-CALDESC:Events for Electro Source Inc.
REFRESH-INTERVAL;VALUE=DURATION:PT1H
X-Robots-Tag:noindex
X-PUBLISHED-TTL:PT1H
BEGIN:VTIMEZONE
TZID:America/Toronto
BEGIN:DAYLIGHT
TZOFFSETFROM:-0500
TZOFFSETTO:-0400
TZNAME:EDT
DTSTART:20200308T070000
END:DAYLIGHT
BEGIN:STANDARD
TZOFFSETFROM:-0400
TZOFFSETTO:-0500
TZNAME:EST
DTSTART:20201101T060000
END:STANDARD
BEGIN:DAYLIGHT
TZOFFSETFROM:-0500
TZOFFSETTO:-0400
TZNAME:EDT
DTSTART:20210314T070000
END:DAYLIGHT
BEGIN:STANDARD
TZOFFSETFROM:-0400
TZOFFSETTO:-0500
TZNAME:EST
DTSTART:20211107T060000
END:STANDARD
BEGIN:DAYLIGHT
TZOFFSETFROM:-0500
TZOFFSETTO:-0400
TZNAME:EDT
DTSTART:20220313T070000
END:DAYLIGHT
BEGIN:STANDARD
TZOFFSETFROM:-0400
TZOFFSETTO:-0500
TZNAME:EST
DTSTART:20221106T060000
END:STANDARD
BEGIN:DAYLIGHT
TZOFFSETFROM:-0500
TZOFFSETTO:-0400
TZNAME:EDT
DTSTART:20230312T070000
END:DAYLIGHT
BEGIN:STANDARD
TZOFFSETFROM:-0400
TZOFFSETTO:-0500
TZNAME:EST
DTSTART:20231105T060000
END:STANDARD
BEGIN:DAYLIGHT
TZOFFSETFROM:-0500
TZOFFSETTO:-0400
TZNAME:EDT
DTSTART:20240310T070000
END:DAYLIGHT
BEGIN:STANDARD
TZOFFSETFROM:-0400
TZOFFSETTO:-0500
TZNAME:EST
DTSTART:20241103T060000
END:STANDARD
BEGIN:DAYLIGHT
TZOFFSETFROM:-0500
TZOFFSETTO:-0400
TZNAME:EDT
DTSTART:20250309T070000
END:DAYLIGHT
BEGIN:STANDARD
TZOFFSETFROM:-0400
TZOFFSETTO:-0500
TZNAME:EST
DTSTART:20251102T060000
END:STANDARD
BEGIN:DAYLIGHT
TZOFFSETFROM:-0500
TZOFFSETTO:-0400
TZNAME:EDT
DTSTART:20260308T070000
END:DAYLIGHT
BEGIN:STANDARD
TZOFFSETFROM:-0400
TZOFFSETTO:-0500
TZNAME:EST
DTSTART:20261101T060000
END:STANDARD
BEGIN:DAYLIGHT
TZOFFSETFROM:-0500
TZOFFSETTO:-0400
TZNAME:EDT
DTSTART:20270314T070000
END:DAYLIGHT
BEGIN:STANDARD
TZOFFSETFROM:-0400
TZOFFSETTO:-0500
TZNAME:EST
DTSTART:20271107T060000
END:STANDARD
END:VTIMEZONE
BEGIN:VEVENT
DTSTART;TZID=America/Toronto:20260120T130000
DTEND;TZID=America/Toronto:20260120T140000
DTSTAMP:20260421T203516
CREATED:20260112T203452Z
LAST-MODIFIED:20260112T203452Z
UID:7561-1768914000-1768917600@electrosource.com
SUMMARY:International Roughness Index (IRI)
DESCRIPTION:Can vehicles developed for latte sipping customers survive the rough roads of emerging markets? The International Roughness Index (IRI) was developed to classify road surfaces.  See how Simcenter Testlab Neo can be used to calculate the IRI of measured road surfaces.
URL:https://electrosource.com/event/international-roughness-index-iri/
LOCATION:Virtual
CATEGORIES:Webinar
END:VEVENT
BEGIN:VEVENT
DTSTART;TZID=America/Toronto:20260116T130000
DTEND;TZID=America/Toronto:20260116T140000
DTSTAMP:20260421T203516
CREATED:20260112T203301Z
LAST-MODIFIED:20260112T203301Z
UID:7559-1768568400-1768572000@electrosource.com
SUMMARY:Order Based Modal Analysis: Not Just a Phase!
DESCRIPTION:Learn how Order-Based Modal Analysis (OBMA) can be used for estimating the modal parameters in operating conditions in case of dominant rotating component excitations (blades\, rotors\, gears\, shafts).
URL:https://electrosource.com/event/order-based-modal-analysis-not-just-a-phase/
LOCATION:Virtual
CATEGORIES:Webinar
END:VEVENT
BEGIN:VEVENT
DTSTART;TZID=America/Toronto:20260114T130000
DTEND;TZID=America/Toronto:20260114T140000
DTSTAMP:20260421T203516
CREATED:20260112T203118Z
LAST-MODIFIED:20260112T203118Z
UID:7557-1768395600-1768399200@electrosource.com
SUMMARY:Angle Domain Measurements
DESCRIPTION:Processing time data into the angle domain can give additional insights into noise and vibration issues that traditional time-frequency methods cannot.  Timing issues within a rotation of a mechanical system can be identified and resolved by viewing data versus degrees rather than seconds.
URL:https://electrosource.com/event/angle-domain-measurements/
LOCATION:Virtual
CATEGORIES:Webinar
END:VEVENT
BEGIN:VEVENT
DTSTART;TZID=America/Toronto:20260113T130000
DTEND;TZID=America/Toronto:20260113T140000
DTSTAMP:20260421T203516
CREATED:20260112T202712Z
LAST-MODIFIED:20260112T202712Z
UID:7555-1768309200-1768312800@electrosource.com
SUMMARY:Brake Performance Testing
DESCRIPTION:A dive into a real world application: brake performance testing.  Learn how Simcenter Testlab Neo can be used to perform automatic calculations on stopping distance\, brake pedal effort\, brake fade temperatures\, and more!  Example data collected with SCADAS RS hardware with wireless upload.
URL:https://electrosource.com/event/brake-performance-testing/
LOCATION:Virtual
CATEGORIES:Webinar
END:VEVENT
BEGIN:VEVENT
DTSTART;VALUE=DATE:20211019
DTEND;VALUE=DATE:20211022
DTSTAMP:20260421T203516
CREATED:20210917T233530Z
LAST-MODIFIED:20210917T233652Z
UID:6355-1634601600-1634860799@electrosource.com
SUMMARY:Arm DevSummit 2021
DESCRIPTION:WHERE HARDWARE AND SOFTWARE JOIN FORCES\nEngineers\, developers\, and tech enthusiasts: Arm DevSummit 2021 is coming to your screens October 19-21. This three-day virtual conference serves up insights into the latest technology trends\, gives you an opportunity to up-level your skills in technical sessions and hands-on workshops\, and offers the chance to network with like-minded software developers and hardware designers. \nJoin us online to learn how Arm combines the power of specialized processing with the design freedom and accessibility of general-purpose compute to help you unlock the power of technology for any device\, from edge to cloud. \nCome and join the millions of active developers in our community and help us spark the world’s technology potential. Together\, we can create positive impact at scale through building energy-efficient high-performance computing solutions.
URL:https://electrosource.com/event/arm-devsummit-2021/
LOCATION:Virtual
CATEGORIES:Webinar
ATTACH;FMTTYPE=image/jpeg:https://electrosource.com/wp-content/uploads/2021/09/arm-devsummit-1024x576-1.jpg
END:VEVENT
BEGIN:VEVENT
DTSTART;TZID=America/Toronto:20210922T120000
DTEND;TZID=America/Toronto:20210922T170000
DTSTAMP:20260421T203516
CREATED:20210917T234256Z
LAST-MODIFIED:20210917T234256Z
UID:6359-1632312000-1632330000@electrosource.com
SUMMARY:Get Smart: Use Simulation to Accelerate API Testing
DESCRIPTION:How Smart Is Your Testing? \nUI testing alone may not reach coverage or quality goals. By expanding to the API layer\, API test automation can cover more of the application in less time to deliver better software faster. \nGo one step further and use simulation to create a virtual copy that behaves just like the real thing! Your testing continues without interruptions! Join our upcoming webinar to learn how to implement continuous testing the smart way. \nKey Takeaways  \n\nOptimize integration testing with reusable and robust API tests.\nLeverage virtual services to ensure high availability and early access to integrated test environments.\nStreamline the feedback loop to management with traceability and reporting.
URL:https://electrosource.com/event/get-smart-use-simulation-to-accelerate-api-testing/
LOCATION:Virtual
CATEGORIES:Webinar
ATTACH;FMTTYPE=image/png:https://electrosource.com/wp-content/uploads/2021/09/parasoftevent.png
END:VEVENT
END:VCALENDAR